BEGIN:VCALENDAR
VERSION:2.0
PRODID:-//Enborne Lodge No 7906 - ECPv6.15.17.1//NONSGML v1.0//EN
CALSCALE:GREGORIAN
METHOD:PUBLISH
X-ORIGINAL-URL:https://enborne7906.org.uk
X-WR-CALDESC:Events for Enborne Lodge No 7906
REFRESH-INTERVAL;VALUE=DURATION:PT1H
X-Robots-Tag:noindex
X-PUBLISHED-TTL:PT1H
BEGIN:VTIMEZONE
TZID:Europe/London
BEGIN:DAYLIGHT
TZOFFSETFROM:+0000
TZOFFSETTO:+0100
TZNAME:BST
DTSTART:20230326T010000
END:DAYLIGHT
BEGIN:STANDARD
TZOFFSETFROM:+0100
TZOFFSETTO:+0000
TZNAME:GMT
DTSTART:20231029T010000
END:STANDARD
BEGIN:DAYLIGHT
TZOFFSETFROM:+0000
TZOFFSETTO:+0100
TZNAME:BST
DTSTART:20240331T010000
END:DAYLIGHT
BEGIN:STANDARD
TZOFFSETFROM:+0100
TZOFFSETTO:+0000
TZNAME:GMT
DTSTART:20241027T010000
END:STANDARD
BEGIN:DAYLIGHT
TZOFFSETFROM:+0000
TZOFFSETTO:+0100
TZNAME:BST
DTSTART:20250330T010000
END:DAYLIGHT
BEGIN:STANDARD
TZOFFSETFROM:+0100
TZOFFSETTO:+0000
TZNAME:GMT
DTSTART:20251026T010000
END:STANDARD
END:VTIMEZONE
BEGIN:VEVENT
DTSTART;TZID=Europe/London:20241112T190000
DTEND;TZID=Europe/London:20241112T210000
DTSTAMP:20260420T203423
CREATED:20240106T153046Z
LAST-MODIFIED:20240106T153046Z
UID:666-1731438000-1731445200@enborne7906.org.uk
SUMMARY:Rehearsal
DESCRIPTION:
URL:https://enborne7906.org.uk/event/rehearsal-4/
LOCATION:Pangbourne Masonic Center\, Masonic Temple Shooters Hill\, Pangbourne\, RG8 7DZ\, United Kingdom
CATEGORIES:Rehearsal
END:VEVENT
BEGIN:VEVENT
DTSTART;TZID=Europe/London:20240910T200000
DTEND;TZID=Europe/London:20240910T220000
DTSTAMP:20260420T203423
CREATED:20240106T153016Z
LAST-MODIFIED:20240106T153016Z
UID:660-1725998400-1726005600@enborne7906.org.uk
SUMMARY:Rehearsal
DESCRIPTION:
URL:https://enborne7906.org.uk/event/rehearsal-3/
LOCATION:Pangbourne Masonic Center\, Masonic Temple Shooters Hill\, Pangbourne\, RG8 7DZ\, United Kingdom
CATEGORIES:Rehearsal
END:VEVENT
BEGIN:VEVENT
DTSTART;TZID=Europe/London:20240709T200000
DTEND;TZID=Europe/London:20240709T220000
DTSTAMP:20260420T203423
CREATED:20240106T153014Z
LAST-MODIFIED:20240106T153014Z
UID:655-1720555200-1720562400@enborne7906.org.uk
SUMMARY:Rehearsal
DESCRIPTION:
URL:https://enborne7906.org.uk/event/rehearsal-2/
LOCATION:Pangbourne Masonic Center\, Masonic Temple Shooters Hill\, Pangbourne\, RG8 7DZ\, United Kingdom
CATEGORIES:Rehearsal
END:VEVENT
BEGIN:VEVENT
DTSTART;TZID=Europe/London:20240514T200000
DTEND;TZID=Europe/London:20240514T220000
DTSTAMP:20260420T203423
CREATED:20240106T153009Z
LAST-MODIFIED:20240106T153009Z
UID:647-1715716800-1715724000@enborne7906.org.uk
SUMMARY:Full Installation Rehearsal
DESCRIPTION:
URL:https://enborne7906.org.uk/event/full-installation-rehearsal/
LOCATION:Pangbourne Masonic Center\, Masonic Temple Shooters Hill\, Pangbourne\, RG8 7DZ\, United Kingdom
CATEGORIES:Rehearsal
END:VEVENT
BEGIN:VEVENT
DTSTART;TZID=Europe/London:20240507T200000
DTEND;TZID=Europe/London:20240507T220000
DTSTAMP:20260420T203423
CREATED:20240106T153009Z
LAST-MODIFIED:20240106T153009Z
UID:646-1715112000-1715119200@enborne7906.org.uk
SUMMARY:First Installation Rehearsal
DESCRIPTION:
URL:https://enborne7906.org.uk/event/first-installation-rehearsal/
LOCATION:Pangbourne Masonic Center\, Masonic Temple Shooters Hill\, Pangbourne\, RG8 7DZ\, United Kingdom
CATEGORIES:Rehearsal
END:VEVENT
BEGIN:VEVENT
DTSTART;TZID=Europe/London:20240312T190000
DTEND;TZID=Europe/London:20240312T210000
DTSTAMP:20260420T203423
CREATED:20240106T152951Z
LAST-MODIFIED:20240106T152951Z
UID:639-1710270000-1710277200@enborne7906.org.uk
SUMMARY:Rehearsal
DESCRIPTION:
URL:https://enborne7906.org.uk/event/rehearsal/
LOCATION:Pangbourne Masonic Center\, Masonic Temple Shooters Hill\, Pangbourne\, RG8 7DZ\, United Kingdom
CATEGORIES:Rehearsal
END:VEVENT
BEGIN:VEVENT
DTSTART;TZID=Europe/London:20240109T190000
DTEND;TZID=Europe/London:20240109T210000
DTSTAMP:20260420T203423
CREATED:20240106T152950Z
LAST-MODIFIED:20240106T152950Z
UID:632-1704826800-1704834000@enborne7906.org.uk
SUMMARY:Rehearsal Second Degree
DESCRIPTION:
URL:https://enborne7906.org.uk/event/rehearsal-second-degree/
LOCATION:Pangbourne Masonic Center\, Masonic Temple Shooters Hill\, Pangbourne\, RG8 7DZ\, United Kingdom
CATEGORIES:Rehearsal
END:VEVENT
END:VCALENDAR