BEGIN:VCALENDAR
VERSION:2.0
PRODID:-//Enborne Lodge No 7906 - ECPv6.15.17.1//NONSGML v1.0//EN
CALSCALE:GREGORIAN
METHOD:PUBLISH
X-ORIGINAL-URL:https://enborne7906.org.uk
X-WR-CALDESC:Events for Enborne Lodge No 7906
REFRESH-INTERVAL;VALUE=DURATION:PT1H
X-Robots-Tag:noindex
X-PUBLISHED-TTL:PT1H
BEGIN:VTIMEZONE
TZID:Europe/London
BEGIN:DAYLIGHT
TZOFFSETFROM:+0000
TZOFFSETTO:+0100
TZNAME:BST
DTSTART:20230326T010000
END:DAYLIGHT
BEGIN:STANDARD
TZOFFSETFROM:+0100
TZOFFSETTO:+0000
TZNAME:GMT
DTSTART:20231029T010000
END:STANDARD
BEGIN:DAYLIGHT
TZOFFSETFROM:+0000
TZOFFSETTO:+0100
TZNAME:BST
DTSTART:20240331T010000
END:DAYLIGHT
BEGIN:STANDARD
TZOFFSETFROM:+0100
TZOFFSETTO:+0000
TZNAME:GMT
DTSTART:20241027T010000
END:STANDARD
BEGIN:DAYLIGHT
TZOFFSETFROM:+0000
TZOFFSETTO:+0100
TZNAME:BST
DTSTART:20250330T010000
END:DAYLIGHT
BEGIN:STANDARD
TZOFFSETFROM:+0100
TZOFFSETTO:+0000
TZNAME:GMT
DTSTART:20251026T010000
END:STANDARD
END:VTIMEZONE
BEGIN:VEVENT
DTSTART;TZID=Europe/London:20241105T190000
DTEND;TZID=Europe/London:20241105T210000
DTSTAMP:20260421T104941
CREATED:20240106T153032Z
LAST-MODIFIED:20240106T153032Z
UID:665-1730833200-1730840400@enborne7906.org.uk
SUMMARY:Class of Instruction (Third Degree Lecture 2)
DESCRIPTION:
URL:https://enborne7906.org.uk/event/class-of-instruction-third-degree-lecture-2/
LOCATION:Pangbourne Masonic Center\, Masonic Temple Shooters Hill\, Pangbourne\, RG8 7DZ\, United Kingdom
CATEGORIES:Class of Instruction
END:VEVENT
BEGIN:VEVENT
DTSTART;TZID=Europe/London:20241018T200000
DTEND;TZID=Europe/London:20241018T220000
DTSTAMP:20260421T104941
CREATED:20240106T153032Z
LAST-MODIFIED:20240106T153032Z
UID:664-1729281600-1729288800@enborne7906.org.uk
SUMMARY:Class of Instruction (Second Degree Lecture 2)
DESCRIPTION:
URL:https://enborne7906.org.uk/event/class-of-instruction-second-degree-lecture-2/
LOCATION:Pangbourne Masonic Center\, Masonic Temple Shooters Hill\, Pangbourne\, RG8 7DZ\, United Kingdom
CATEGORIES:Class of Instruction
END:VEVENT
BEGIN:VEVENT
DTSTART;TZID=Europe/London:20241001T200000
DTEND;TZID=Europe/London:20241001T220000
DTSTAMP:20260421T104941
CREATED:20240106T153031Z
LAST-MODIFIED:20240106T153031Z
UID:662-1727812800-1727820000@enborne7906.org.uk
SUMMARY:Class of Instruction (First Degree Lecture 2)
DESCRIPTION:
URL:https://enborne7906.org.uk/event/class-of-instruction-first-degree-lecture-2/
LOCATION:Pangbourne Masonic Center\, Masonic Temple Shooters Hill\, Pangbourne\, RG8 7DZ\, United Kingdom
CATEGORIES:Class of Instruction
END:VEVENT
BEGIN:VEVENT
DTSTART;TZID=Europe/London:20240903T200000
DTEND;TZID=Europe/London:20240903T220000
DTSTAMP:20260421T104941
CREATED:20240106T153016Z
LAST-MODIFIED:20240106T153016Z
UID:658-1725393600-1725400800@enborne7906.org.uk
SUMMARY:Class of Instruction (Third Degree Lecture 1)
DESCRIPTION:
URL:https://enborne7906.org.uk/event/class-of-instruction-third-degree-lecture-1/
LOCATION:Pangbourne Masonic Center\, Masonic Temple Shooters Hill\, Pangbourne\, RG8 7DZ\, United Kingdom
CATEGORIES:Class of Instruction
END:VEVENT
BEGIN:VEVENT
DTSTART;TZID=Europe/London:20240723T200000
DTEND;TZID=Europe/London:20240723T220000
DTSTAMP:20260421T104941
CREATED:20240106T153016Z
LAST-MODIFIED:20240106T153016Z
UID:657-1721764800-1721772000@enborne7906.org.uk
SUMMARY:Class of Instruction
DESCRIPTION:
URL:https://enborne7906.org.uk/event/class-of-instruction-3/
LOCATION:Pangbourne Masonic Center\, Masonic Temple Shooters Hill\, Pangbourne\, RG8 7DZ\, United Kingdom
CATEGORIES:Class of Instruction
END:VEVENT
BEGIN:VEVENT
DTSTART;TZID=Europe/London:20240702T200000
DTEND;TZID=Europe/London:20240702T220000
DTSTAMP:20260421T104941
CREATED:20240106T153014Z
LAST-MODIFIED:20240106T153014Z
UID:654-1719950400-1719957600@enborne7906.org.uk
SUMMARY:Class of Instruction (Second Degree Lecture 1)
DESCRIPTION:
URL:https://enborne7906.org.uk/event/class-of-instruction-second-degree-lecture-1/
LOCATION:Pangbourne Masonic Center\, Masonic Temple Shooters Hill\, Pangbourne\, RG8 7DZ\, United Kingdom
CATEGORIES:Class of Instruction
END:VEVENT
BEGIN:VEVENT
DTSTART;TZID=Europe/London:20240625T200000
DTEND;TZID=Europe/London:20240625T220000
DTSTAMP:20260421T104941
CREATED:20240106T153014Z
LAST-MODIFIED:20240106T153014Z
UID:653-1719345600-1719352800@enborne7906.org.uk
SUMMARY:Class of Instruction (First Degree Lecture 1)
DESCRIPTION:
URL:https://enborne7906.org.uk/event/class-of-instruction-first-degree-lecture-1/
LOCATION:Pangbourne Masonic Center\, Masonic Temple Shooters Hill\, Pangbourne\, RG8 7DZ\, United Kingdom
CATEGORIES:Class of Instruction
END:VEVENT
BEGIN:VEVENT
DTSTART;TZID=Europe/London:20240604T200000
DTEND;TZID=Europe/London:20240604T220000
DTSTAMP:20260421T104941
CREATED:20240106T153010Z
LAST-MODIFIED:20240106T153010Z
UID:650-1717531200-1717538400@enborne7906.org.uk
SUMMARY:Class of Instruction
DESCRIPTION:
URL:https://enborne7906.org.uk/event/class-of-instruction-2/
LOCATION:Pangbourne Masonic Center\, Masonic Temple Shooters Hill\, Pangbourne\, RG8 7DZ\, United Kingdom
CATEGORIES:Class of Instruction
END:VEVENT
BEGIN:VEVENT
DTSTART;TZID=Europe/London:20240528T200000
DTEND;TZID=Europe/London:20240528T220000
DTSTAMP:20260421T104941
CREATED:20240106T153010Z
LAST-MODIFIED:20240106T153010Z
UID:649-1716926400-1716933600@enborne7906.org.uk
SUMMARY:Class of Instruction (Learning the Ritual)
DESCRIPTION:
URL:https://enborne7906.org.uk/event/class-of-instruction-learning-the-ritual/
LOCATION:Pangbourne Masonic Center\, Masonic Temple Shooters Hill\, Pangbourne\, RG8 7DZ\, United Kingdom
CATEGORIES:Class of Instruction
END:VEVENT
BEGIN:VEVENT
DTSTART;TZID=Europe/London:20240423T200000
DTEND;TZID=Europe/London:20240423T220000
DTSTAMP:20260421T104941
CREATED:20240106T153007Z
LAST-MODIFIED:20240106T153007Z
UID:644-1713902400-1713909600@enborne7906.org.uk
SUMMARY:Class of Instruction (TBC)
DESCRIPTION:
URL:https://enborne7906.org.uk/event/class-of-instruction-tbc/
LOCATION:Pangbourne Masonic Center\, Masonic Temple Shooters Hill\, Pangbourne\, RG8 7DZ\, United Kingdom
CATEGORIES:Class of Instruction
END:VEVENT
BEGIN:VEVENT
DTSTART;TZID=Europe/London:20240409T190000
DTEND;TZID=Europe/London:20240409T220000
DTSTAMP:20260421T104941
CREATED:20240106T153007Z
LAST-MODIFIED:20240106T153007Z
UID:642-1712689200-1712700000@enborne7906.org.uk
SUMMARY:Class of Instruction (Third Degree)
DESCRIPTION:
URL:https://enborne7906.org.uk/event/class-of-instruction-third-degree/
LOCATION:Pangbourne Masonic Center\, Masonic Temple Shooters Hill\, Pangbourne\, RG8 7DZ\, United Kingdom
CATEGORIES:Class of Instruction
END:VEVENT
BEGIN:VEVENT
DTSTART;TZID=Europe/London:20240220T190000
DTEND;TZID=Europe/London:20240220T210000
DTSTAMP:20260421T104941
CREATED:20240106T152951Z
LAST-MODIFIED:20240106T152951Z
UID:636-1708455600-1708462800@enborne7906.org.uk
SUMMARY:Class of Instruction (Second Degree)
DESCRIPTION:
URL:https://enborne7906.org.uk/event/class-of-instruction-second-degree/
LOCATION:Pangbourne Masonic Center\, Masonic Temple Shooters Hill\, Pangbourne\, RG8 7DZ\, United Kingdom
CATEGORIES:Class of Instruction
END:VEVENT
BEGIN:VEVENT
DTSTART;TZID=Europe/London:20240206T190000
DTEND;TZID=Europe/London:20240206T210000
DTSTAMP:20260421T104941
CREATED:20240106T152950Z
LAST-MODIFIED:20240106T152950Z
UID:634-1707246000-1707253200@enborne7906.org.uk
SUMMARY:Class of Instruction (First Degree)
DESCRIPTION:
URL:https://enborne7906.org.uk/event/class-of-instruction-first-degree/
LOCATION:Pangbourne Masonic Center\, Masonic Temple Shooters Hill\, Pangbourne\, RG8 7DZ\, United Kingdom
CATEGORIES:Class of Instruction
END:VEVENT
BEGIN:VEVENT
DTSTART;TZID=Europe/London:20240102T190000
DTEND;TZID=Europe/London:20240102T210000
DTSTAMP:20260421T104941
CREATED:20240106T152950Z
LAST-MODIFIED:20240106T152950Z
UID:631-1704222000-1704229200@enborne7906.org.uk
SUMMARY:Class of Instruction
DESCRIPTION:
URL:https://enborne7906.org.uk/event/class-of-instruction/
LOCATION:Pangbourne Masonic Center\, Masonic Temple Shooters Hill\, Pangbourne\, RG8 7DZ\, United Kingdom
CATEGORIES:Class of Instruction
END:VEVENT
END:VCALENDAR